BEGIN:VCALENDAR
VERSION:2.0
PRODID:-//www.laveen.org//NONSGML kigkonsult.se iCalcreator 2.30.10//
CALSCALE:GREGORIAN
METHOD:PUBLISH
UID:d9655466-61bf-4baa-b64b-1bcf8048ec43
X-WR-CALDESC:
X-WR-RELCALID:4b562bb8da198f1c3350f64b70516e2e
X-WR-TIMEZONE:America/Phoenix
BEGIN:VTIMEZONE
TZID:America/Phoenix
BEGIN:STANDARD
TZNAME:MST
DTSTART:20210526T070000
TZOFFSETFROM:+0000
TZOFFSETTO:-0700
END:STANDARD
END:VTIMEZONE
BEGIN:VEVENT
UID:621dabb0-b13a-4a61-b366-7d408f84d3be
DTSTAMP:20260424T000031Z
DESCRIPTION:
DTSTART;TZID=America/Phoenix:20230225T110000
DTEND;TZID=America/Phoenix:20230225T160000
LOCATION:
SUMMARY:2023 Laveen BBQ
END:VEVENT
END:VCALENDAR
