BEGIN:VCALENDAR
VERSION:2.0
PRODID:-//www.laveen.org//NONSGML kigkonsult.se iCalcreator 2.30.10//
CALSCALE:GREGORIAN
METHOD:PUBLISH
UID:50e37e9e-d5c7-474b-b93c-b35ed7007a1d
X-WR-CALDESC:Monthly LCC Public Meeting
X-WR-RELCALID:f215173c689356637ab835cb068d1866
X-WR-TIMEZONE:America/Phoenix
BEGIN:VTIMEZONE
TZID:America/Phoenix
BEGIN:STANDARD
TZNAME:MST
DTSTART:20200530T070000
TZOFFSETFROM:+0000
TZOFFSETTO:-0700
END:STANDARD
END:VTIMEZONE
BEGIN:VEVENT
UID:36f4654b-28c2-4244-835b-36423ea7c15f
DTSTAMP:20260424T032333Z
DESCRIPTION:Monthly LCC Public Meeting
DTSTART;TZID=America/Phoenix:20220301T183000
DTEND;TZID=America/Phoenix:20220301T193000
LOCATION:5001 W Dobbins Rd\, Building A\, Laveen\, AZ 85339 US
SUMMARY:LCC Monthly Public Meeting
END:VEVENT
END:VCALENDAR
