BEGIN:VCALENDAR
VERSION:2.0
PRODID:-//www.laveen.org//NONSGML kigkonsult.se iCalcreator 2.30.10//
CALSCALE:GREGORIAN
METHOD:PUBLISH
UID:df69ff89-f0f0-4d29-8f04-214e8652555d
X-WR-CALDESC:
X-WR-RELCALID:3873d8029ba9611e3e6bd23bf4f743c4
X-WR-TIMEZONE:America/Phoenix
BEGIN:VTIMEZONE
TZID:America/Phoenix
BEGIN:STANDARD
TZNAME:MST
DTSTART:20190503T070000
TZOFFSETFROM:+0000
TZOFFSETTO:-0700
END:STANDARD
END:VTIMEZONE
BEGIN:VEVENT
UID:956eac61-03b3-4432-a937-211f6c2ca405
DTSTAMP:20260423T232303Z
DESCRIPTION:
DTSTART;TZID=America/Phoenix:20210201T190000
DTEND;TZID=America/Phoenix:20210201T213000
LOCATION:LESD\, 5001 W Dobbins Rd\, Bldg A.\, Laveen\, AZ. 85339
SUMMARY:LPC / LCRD Monthly Meeting
END:VEVENT
END:VCALENDAR
