BEGIN:VCALENDAR
VERSION:2.0
PRODID:-//www.laveen.org//NONSGML kigkonsult.se iCalcreator 2.30.10//
CALSCALE:GREGORIAN
METHOD:PUBLISH
UID:d72b4948-cc46-469e-b4e8-8e47fb5510f2
X-WR-CALDESC:
X-WR-RELCALID:034651ede6472c21b073daff711741a4
X-WR-TIMEZONE:America/Phoenix
BEGIN:VTIMEZONE
TZID:America/Phoenix
BEGIN:STANDARD
TZNAME:MST
DTSTART:20181005T070000
TZOFFSETFROM:+0000
TZOFFSETTO:-0700
END:STANDARD
END:VTIMEZONE
BEGIN:VEVENT
UID:ce401416-5d01-40b4-a5da-a0255a79790b
DTSTAMP:20260423T061739Z
DESCRIPTION:
DTSTART;TZID=America/Phoenix:20200706T190000
DTEND;TZID=America/Phoenix:20200706T213000
LOCATION:LESD\, 5001 W Dobbins Rd\, Bldg A.\, Laveen\, AZ. 85339
SUMMARY:LPC / LCRD Monthly Meeting
END:VEVENT
END:VCALENDAR
