BEGIN:VCALENDAR
VERSION:2.0
PRODID:-//www.laveen.org//NONSGML kigkonsult.se iCalcreator 2.30.10//
CALSCALE:GREGORIAN
METHOD:PUBLISH
UID:5cfc0f57-22e5-4999-84d9-05482b922e6d
X-WR-CALDESC:\nIf you have a concern about crime and safety in your neighbo
 rhood or greater community and would like to be a part of the solution ple
 ase attend our August LAHOA Meeting\n\nAugust 30\, 2018\nBetty Fairfax Hig
 h School Community Room \n6:30 PM\n\nOur Community Action Officers will ta
 lk about Block Watch\, Virtual Block Watch\, and Crime Prevention.\n\nWe n
 eed everyone to participate if we want to see a safe\, strong\, vital Lave
 en. The entire meeting will be dedicated to Crime Prevention!
X-WR-RELCALID:61d7aecb8cc8666c1f0418d352f7f043
X-WR-TIMEZONE:America/Los_Angeles
BEGIN:VTIMEZONE
TZID:America/Los_Angeles
BEGIN:STANDARD
TZNAME:PST
DTSTART:20191103T020000
TZOFFSETFROM:-0700
TZOFFSETTO:-0800
RDATE:20201101T020000
END:STANDARD
BEGIN:DAYLIGHT
TZNAME:PDT
DTSTART:20190310T020000
TZOFFSETFROM:-0800
TZOFFSETTO:-0700
RDATE:20200308T020000
RDATE:20210314T020000
END:DAYLIGHT
END:VTIMEZONE
BEGIN:VEVENT
UID:d2ed812e-40c2-4bc3-893a-fa8628b93aec
DTSTAMP:20260424T114905Z
DESCRIPTION:\nIf you have a concern about crime and safety in your neighbor
 hood or greater community and would like to be a part of the solution plea
 se attend our August LAHOA Meeting\n\nAugust 30\, 2018\nBetty Fairfax High
  School Community Room \n6:30 PM\n\nOur Community Action Officers will tal
 k about Block Watch\, Virtual Block Watch\, and Crime Prevention.\n\nWe ne
 ed everyone to participate if we want to see a safe\, strong\, vital Lavee
 n. The entire meeting will be dedicated to Crime Prevention!
DTSTART;TZID=America/Los_Angeles:20200123T183000
DTEND;TZID=America/Los_Angeles:20200123T200000
LOCATION:Betty Fairfax HS Bldg 400\, 8225 S. 59TH AVE\, LAVEEN\, AZ 85339
SUMMARY:LAHOA Monthly Meeting
END:VEVENT
END:VCALENDAR
