BEGIN:VCALENDAR
VERSION:2.0
PRODID:-//www.laveen.org//NONSGML kigkonsult.se iCalcreator 2.30.10//
CALSCALE:GREGORIAN
METHOD:PUBLISH
UID:82f53165-23c2-47e6-8f19-b6c25c42cf32
X-WR-CALDESC:
X-WR-RELCALID:afda766a3aed52d5dda303414e1e8441
X-WR-TIMEZONE:America/Phoenix
BEGIN:VTIMEZONE
TZID:America/Phoenix
BEGIN:STANDARD
TZNAME:MST
DTSTART:20180202T070000
TZOFFSETFROM:+0000
TZOFFSETTO:-0700
END:STANDARD
END:VTIMEZONE
BEGIN:VEVENT
UID:25289857-1e48-4025-bc51-1229270a9e6a
DTSTAMP:20260423T160207Z
DESCRIPTION:
DTSTART;TZID=America/Phoenix:20191104T190000
DTEND;TZID=America/Phoenix:20191104T213000
LOCATION:LESD\, 5001 W Dobbins Rd\, Bldg A.\, Laveen\, AZ. 85339
SUMMARY:LPC / LCRD Monthly Meeting
END:VEVENT
END:VCALENDAR
